BEGIN:VCALENDAR
VERSION:2.0
PRODID:spatie/icalendar-generator
NAME:Essere scelti nell'Agentic Era: come diventare visibili\, credibili e 
 rilevanti per gli agenti AI
X-WR-CALNAME:Essere scelti nell'Agentic Era: come diventare visibili\, cred
 ibili e rilevanti per gli agenti AI
BEGIN:VEVENT
UID:69e62ed1bbdd8
SUMMARY:Essere scelti nell'Agentic Era: come diventare visibili\, credibili
  e rilevanti per gli agenti AI
DTSTART:20260513T070000Z
DTEND:20260513T090000Z
DTSTAMP:20260420T134905Z
END:VEVENT
END:VCALENDAR