BEGIN:VCALENDAR
VERSION:2.0
PRODID:spatie/icalendar-generator
NAME:Top 500 Liguria
X-WR-CALNAME:Top 500 Liguria
BEGIN:VEVENT
UID:69e6e8ad2707f
SUMMARY:Top 500 Liguria
DTSTART:20260710T071500Z
DTEND:20260710T130000Z
DTSTAMP:20260421T030205Z
END:VEVENT
END:VCALENDAR