BEGIN:VCALENDAR
VERSION:2.0
PRODID:spatie/icalendar-generator
NAME:Google Cloud Summit Milano 2025
X-WR-CALNAME:Google Cloud Summit Milano 2025
BEGIN:VEVENT
UID:69eb9a3a21a4c
SUMMARY:Google Cloud Summit Milano 2025
DTSTART:20250612T070000Z
DTEND:20250612T170000Z
DTSTAMP:20260424T162842Z
END:VEVENT
END:VCALENDAR