BEGIN:VCALENDAR
VERSION:2.0
PRODID:spatie/icalendar-generator
NAME:Il governo del Cyber Risk: dalla gestione della sicurezza della filier
 a alla resilienza operativa\, con approcci concreti per la conformità NIS
 2
X-WR-CALNAME:Il governo del Cyber Risk: dalla gestione della sicurezza dell
 a filiera alla resilienza operativa\, con approcci concreti per la conform
 ità NIS2
BEGIN:VEVENT
UID:69e6fd2f2b2eb
SUMMARY:Il governo del Cyber Risk: dalla gestione della sicurezza della fil
 iera alla resilienza operativa\, con approcci concreti per la conformità 
 NIS2
DTSTART:20260427T090000Z
DTEND:20260427T110000Z
DTSTAMP:20260421T042935Z
END:VEVENT
END:VCALENDAR