BEGIN:VCALENDAR
VERSION:2.0
PRODID:spatie/icalendar-generator
NAME:30° Pambianco/PwC Fashion Summit
X-WR-CALNAME:30° Pambianco/PwC Fashion Summit
BEGIN:VEVENT
UID:69ea386ad3219
SUMMARY:30° Pambianco/PwC Fashion Summit
DTSTART:20251113T070000Z
DTEND:20251113T104500Z
DTSTAMP:20260423T151906Z
END:VEVENT
END:VCALENDAR